BEGIN:VCALENDAR
METHOD:PUBLISH
PRODID:Data::ICal 0.13
VERSION:2.0
BEGIN:VEVENT
DESCRIPTION:&nbsp;\n\nSee Cody Johnson, Saturday, February 14th at KFC Yum! Center!\n\n[caption id=&quot;attachment_69072&quot; align=&quot;alignnone&quot; width=&quot;300&quot;]  [/caption]
DTSTAMP:20260423T010031Z
DTSTART;TZID=America/Indiana/Indianapolis:20260214T000000
DTEND;TZID=America/Indiana/Indianapolis:20260214T000000
LOCATION:Louisville\, KY
SUMMARY:Cody Johnson
UID:766172-1771027200-1771027200
END:VEVENT
END:VCALENDAR
